BEGIN:VCALENDAR
VERSION:2.0
PRODID:-//wp-events-plugin.com//7.2.3.1//EN
TZID:America/New_York
X-WR-TIMEZONE:America/New_York
BEGIN:VEVENT
UID:195@orzarua.org
DTSTART;TZID=America/New_York:20251101T110000
DTEND;TZID=America/New_York:20251101T114500
DTSTAMP:20251030T132157Z
URL:https://www.orzarua.org/events/torah-tots-and-torah-kids-7/
SUMMARY:Tot Shabbat and Kids Shabbat
DESCRIPTION:Introduce your children to Shabbat in a fun and joyful way!\n\n
 Tot Shabbat: Birth to 5 years old.\n\nKids Shabbat: 6-10 years old.
ATTACH;FMTTYPE=image/jpeg:https://www.orzarua.org/wp-content/uploads/2020/
 02/2025-Tot-Shabbat-and-Kids-Shabbat.jpg
CATEGORIES:Youth and Families
END:VEVENT
BEGIN:VTIMEZONE
TZID:America/New_York
X-LIC-LOCATION:America/New_York
BEGIN:DAYLIGHT
DTSTART:20250309T030000
TZOFFSETFROM:-0500
TZOFFSETTO:-0400
TZNAME:EDT
END:DAYLIGHT
END:VTIMEZONE
END:VCALENDAR